BEGIN:VCALENDAR
VERSION:2.0
PRODID:-//Ashchurch Rural Parish Council//Meeting Calendar//EN
CALSCALE:GREGORIAN
METHOD:PUBLISH
BEGIN:VEVENT
UID:75306-20260518@ashchurchrural-pc.gov.uk
DTSTAMP:20260423T105431Z
DTSTART;VALUE=DATE:20260518
DTEND;VALUE=DATE:20260519
SUMMARY:Council Meeting 18 May 2026
DESCRIPTION:Annual Parish Meeting\nView details: https://ashchurchrural-pc.gov.uk/meetings/council-meeting-18-may/
URL:https://ashchurchrural-pc.gov.uk/meetings/council-meeting-18-may/
END:VEVENT
END:VCALENDAR
