BEGIN:VCALENDAR
VERSION:2.0
PRODID:-//Ashchurch Rural Parish Council//Meeting Calendar//EN
CALSCALE:GREGORIAN
METHOD:PUBLISH
BEGIN:VEVENT
UID:75263-20260420@ashchurchrural-pc.gov.uk
DTSTAMP:20260420T175638Z
DTSTART;VALUE=DATE:20260420
DTEND;VALUE=DATE:20260421
SUMMARY:Council Meeting 20 April 2026
DESCRIPTION:Full Council Meeting\nView details: https://ashchurchrural-pc.gov.uk/meetings/council-meeting-20-april-2026/
URL:https://ashchurchrural-pc.gov.uk/meetings/council-meeting-20-april-2026/
END:VEVENT
END:VCALENDAR
