BEGIN:VCALENDAR
VERSION:2.0
PRODID:-//Ashchurch Rural Parish Council//Meeting Calendar//EN
CALSCALE:GREGORIAN
METHOD:PUBLISH
BEGIN:VEVENT
UID:71540-20251119@ashchurchrural-pc.gov.uk
DTSTAMP:20260423T140557Z
DTSTART;VALUE=DATE:20251119
DTEND;VALUE=DATE:20251120
SUMMARY:Council Meeting 19 November 2025
DESCRIPTION:Full Council Meeting\nView details: https://ashchurchrural-pc.gov.uk/meetings/council-meeting-19-november-2025/
URL:https://ashchurchrural-pc.gov.uk/meetings/council-meeting-19-november-2025/
END:VEVENT
END:VCALENDAR
