BEGIN:VCALENDAR
VERSION:2.0
PRODID:-//Ashchurch Rural Parish Council//Meeting Calendar//EN
CALSCALE:GREGORIAN
METHOD:PUBLISH
BEGIN:VEVENT
UID:71462-20250924@ashchurchrural-pc.gov.uk
DTSTAMP:20260423T105337Z
DTSTART;VALUE=DATE:20250924
DTEND;VALUE=DATE:20250925
SUMMARY:Council Meeting 24 September 2025
DESCRIPTION:Full Council Meeting\nView details: https://ashchurchrural-pc.gov.uk/meetings/council-meeting-24-september-2025/
URL:https://ashchurchrural-pc.gov.uk/meetings/council-meeting-24-september-2025/
END:VEVENT
END:VCALENDAR
