BEGIN:VCALENDAR
VERSION:2.0
PRODID:-//Ashchurch Rural Parish Council//Meeting Calendar//EN
CALSCALE:GREGORIAN
METHOD:PUBLISH
BEGIN:VEVENT
UID:71442-20250818@ashchurchrural-pc.gov.uk
DTSTAMP:20260423T112201Z
DTSTART;VALUE=DATE:20250818
DTEND;VALUE=DATE:20250819
SUMMARY:Council Meeting 18 August 2025
DESCRIPTION:Full Council Meeting\nView details: https://ashchurchrural-pc.gov.uk/meetings/council-meeting-18-august-2025/
URL:https://ashchurchrural-pc.gov.uk/meetings/council-meeting-18-august-2025/
END:VEVENT
END:VCALENDAR
