BEGIN:VCALENDAR
VERSION:2.0
PRODID:-//Ashchurch Rural Parish Council//Meeting Calendar//EN
CALSCALE:GREGORIAN
METHOD:PUBLISH
BEGIN:VEVENT
UID:71399-20231211@ashchurchrural-pc.gov.uk
DTSTAMP:20260421T033219Z
DTSTART;VALUE=DATE:20231211
DTEND;VALUE=DATE:20231212
SUMMARY:Council Meeting 11 December 2023
DESCRIPTION:Full Council Meeting\nView details: https://ashchurchrural-pc.gov.uk/meetings/council-meeting-11-december-2023/
URL:https://ashchurchrural-pc.gov.uk/meetings/council-meeting-11-december-2023/
END:VEVENT
END:VCALENDAR
