BEGIN:VCALENDAR
VERSION:2.0
PRODID:-//Ashchurch Rural Parish Council//Meeting Calendar//EN
CALSCALE:GREGORIAN
METHOD:PUBLISH
BEGIN:VEVENT
UID:71395-20231120@ashchurchrural-pc.gov.uk
DTSTAMP:20260421T030836Z
DTSTART;VALUE=DATE:20231120
DTEND;VALUE=DATE:20231121
SUMMARY:Council Meeting 20 November 2023
DESCRIPTION:Full Council Meeting\nView details: https://ashchurchrural-pc.gov.uk/meetings/council-meeting-20-november-2023/
URL:https://ashchurchrural-pc.gov.uk/meetings/council-meeting-20-november-2023/
END:VEVENT
END:VCALENDAR
