BEGIN:VCALENDAR
VERSION:2.0
PRODID:-//Ashchurch Rural Parish Council//Meeting Calendar//EN
CALSCALE:GREGORIAN
METHOD:PUBLISH
BEGIN:VEVENT
UID:71387-20230925@ashchurchrural-pc.gov.uk
DTSTAMP:20260421T030836Z
DTSTART;VALUE=DATE:20230925
DTEND;VALUE=DATE:20230926
SUMMARY:Council Meeting 25 September 2023
DESCRIPTION:Full Council Meeting\nView details: https://ashchurchrural-pc.gov.uk/meetings/council-meeting-25-september-2023/
URL:https://ashchurchrural-pc.gov.uk/meetings/council-meeting-25-september-2023/
END:VEVENT
END:VCALENDAR
