BEGIN:VCALENDAR
VERSION:2.0
PRODID:-//Ashchurch Rural Parish Council//Meeting Calendar//EN
CALSCALE:GREGORIAN
METHOD:PUBLISH
BEGIN:VEVENT
UID:71383-20230821@ashchurchrural-pc.gov.uk
DTSTAMP:20260421T015600Z
DTSTART;VALUE=DATE:20230821
DTEND;VALUE=DATE:20230822
SUMMARY:Council Meeting 21 August 2023
DESCRIPTION:Full Council Meeting\nView details: https://ashchurchrural-pc.gov.uk/meetings/council-meeting-21-august-2023/
URL:https://ashchurchrural-pc.gov.uk/meetings/council-meeting-21-august-2023/
END:VEVENT
END:VCALENDAR
