BEGIN:VCALENDAR
VERSION:2.0
PRODID:-//Ashchurch Rural Parish Council//Meeting Calendar//EN
CALSCALE:GREGORIAN
METHOD:PUBLISH
BEGIN:VEVENT
UID:71378-20230717@ashchurchrural-pc.gov.uk
DTSTAMP:20260421T013906Z
DTSTART;VALUE=DATE:20230717
DTEND;VALUE=DATE:20230718
SUMMARY:Council Meeting 17 July 2023
DESCRIPTION:Full Council Meeting\nView details: https://ashchurchrural-pc.gov.uk/meetings/council-meeting-17-july-2023/
URL:https://ashchurchrural-pc.gov.uk/meetings/council-meeting-17-july-2023/
END:VEVENT
END:VCALENDAR
