BEGIN:VCALENDAR
VERSION:2.0
PRODID:-//Ashchurch Rural Parish Council//Meeting Calendar//EN
CALSCALE:GREGORIAN
METHOD:PUBLISH
BEGIN:VEVENT
UID:71371-20230424@ashchurchrural-pc.gov.uk
DTSTAMP:20260421T000808Z
DTSTART;VALUE=DATE:20230424
DTEND;VALUE=DATE:20230425
SUMMARY:Council Meeting 24 April 2023
DESCRIPTION:Full Council Meeting\nView details: https://ashchurchrural-pc.gov.uk/meetings/council-meeting-24-april-2023/
URL:https://ashchurchrural-pc.gov.uk/meetings/council-meeting-24-april-2023/
END:VEVENT
END:VCALENDAR
