BEGIN:VCALENDAR
VERSION:2.0
PRODID:-//Ashchurch Rural Parish Council//Meeting Calendar//EN
CALSCALE:GREGORIAN
METHOD:PUBLISH
BEGIN:VEVENT
UID:71366-20230220@ashchurchrural-pc.gov.uk
DTSTAMP:20260421T000851Z
DTSTART;VALUE=DATE:20230220
DTEND;VALUE=DATE:20230221
SUMMARY:Council Meeting 20 February 2023
DESCRIPTION:Full Council Meeting\nView details: https://ashchurchrural-pc.gov.uk/meetings/council-meeting-20-february-2023/
URL:https://ashchurchrural-pc.gov.uk/meetings/council-meeting-20-february-2023/
END:VEVENT
END:VCALENDAR
