BEGIN:VCALENDAR
VERSION:2.0
PRODID:-//Ashchurch Rural Parish Council//Meeting Calendar//EN
CALSCALE:GREGORIAN
METHOD:PUBLISH
BEGIN:VEVENT
UID:71351-20230123@ashchurchrural-pc.gov.uk
DTSTAMP:20260421T000916Z
DTSTART;VALUE=DATE:20230123
DTEND;VALUE=DATE:20230124
SUMMARY:Council Meeting 23 January 2023
DESCRIPTION:Full Council Meeting\nView details: https://ashchurchrural-pc.gov.uk/meetings/council-meeting-23-january-2023/
URL:https://ashchurchrural-pc.gov.uk/meetings/council-meeting-23-january-2023/
END:VEVENT
END:VCALENDAR
