BEGIN:VCALENDAR
VERSION:2.0
PRODID:-//Ashchurch Rural Parish Council//Meeting Calendar//EN
CALSCALE:GREGORIAN
METHOD:PUBLISH
BEGIN:VEVENT
UID:71301-20260518@ashchurchrural-pc.gov.uk
DTSTAMP:20260421T030801Z
DTSTART;VALUE=DATE:20260518
DTEND;VALUE=DATE:20260519
SUMMARY:Annual Parish Meeting 18 May 2026
DESCRIPTION:Annual Parish Meeting\nView details: https://ashchurchrural-pc.gov.uk/meetings/annual-parish-meeting-18-may-2026/
URL:https://ashchurchrural-pc.gov.uk/meetings/annual-parish-meeting-18-may-2026/
END:VEVENT
END:VCALENDAR
