BEGIN:VCALENDAR
VERSION:2.0
PRODID:-//Ashchurch Rural Parish Council//Meeting Calendar//EN
CALSCALE:GREGORIAN
METHOD:PUBLISH
BEGIN:VEVENT
UID:71298-20250616@ashchurchrural-pc.gov.uk
DTSTAMP:20260423T105622Z
DTSTART;VALUE=DATE:20250616
DTEND;VALUE=DATE:20250617
SUMMARY:Parish Council Meeting 16 June 2025
DESCRIPTION:Full Council Meeting\nView details: https://ashchurchrural-pc.gov.uk/meetings/parish-council-meeting-16-june-2025/
URL:https://ashchurchrural-pc.gov.uk/meetings/parish-council-meeting-16-june-2025/
END:VEVENT
END:VCALENDAR
