BEGIN:VCALENDAR
VERSION:2.0
PRODID:-//Ashchurch Rural Parish Council//Meeting Calendar//EN
CALSCALE:GREGORIAN
METHOD:PUBLISH
BEGIN:VEVENT
UID:71276-20250519@ashchurchrural-pc.gov.uk
DTSTAMP:20260420T204838Z
DTSTART;VALUE=DATE:20250519
DTEND;VALUE=DATE:20250520
SUMMARY:Annual Parish Meeting May 2025
DESCRIPTION:Annual Parish Meeting\nView details: https://ashchurchrural-pc.gov.uk/meetings/annual-parish-meeting-may-2025/
URL:https://ashchurchrural-pc.gov.uk/meetings/annual-parish-meeting-may-2025/
END:VEVENT
END:VCALENDAR
