BEGIN:VCALENDAR
VERSION:2.0
PRODID:-//Ashchurch Rural Parish Council//Meeting Calendar//EN
CALSCALE:GREGORIAN
METHOD:PUBLISH
BEGIN:VEVENT
UID:71234-20250519@ashchurchrural-pc.gov.uk
DTSTAMP:20260423T094043Z
DTSTART;VALUE=DATE:20250519
DTEND;VALUE=DATE:20250520
SUMMARY:Council Meeting 19 May 2025
DESCRIPTION:Full Council Meeting\nView details: https://ashchurchrural-pc.gov.uk/meetings/council-meeting/
URL:https://ashchurchrural-pc.gov.uk/meetings/council-meeting/
END:VEVENT
END:VCALENDAR
