BEGIN:VCALENDAR
VERSION:2.0
PRODID:-//Ashchurch Rural Parish Council//Meeting Calendar//EN
CALSCALE:GREGORIAN
METHOD:PUBLISH
BEGIN:VEVENT
UID:71201-20250414@ashchurchrural-pc.gov.uk
DTSTAMP:20260423T100331Z
DTSTART;VALUE=DATE:20250414
DTEND;VALUE=DATE:20250415
SUMMARY:Council Meeting -14 April 2025
DESCRIPTION:Full Council Meeting\nView details: https://ashchurchrural-pc.gov.uk/meetings/council-meeting-14-april-2025/
URL:https://ashchurchrural-pc.gov.uk/meetings/council-meeting-14-april-2025/
END:VEVENT
END:VCALENDAR
