BEGIN:VCALENDAR
VERSION:2.0
PRODID:-//Ashchurch Rural Parish Council//Meeting Calendar//EN
CALSCALE:GREGORIAN
METHOD:PUBLISH
BEGIN:VEVENT
UID:71091-20250317@ashchurchrural-pc.gov.uk
DTSTAMP:20260423T095302Z
DTSTART;VALUE=DATE:20250317
DTEND;VALUE=DATE:20250318
SUMMARY:Council Meeting- 17 March 2025
DESCRIPTION:Full Council Meeting\nView details: https://ashchurchrural-pc.gov.uk/meetings/council-meeting-17-march-2025/
URL:https://ashchurchrural-pc.gov.uk/meetings/council-meeting-17-march-2025/
END:VEVENT
END:VCALENDAR
