BEGIN:VCALENDAR
VERSION:2.0
PRODID:-//Ashchurch Rural Parish Council//Meeting Calendar//EN
CALSCALE:GREGORIAN
METHOD:PUBLISH
BEGIN:VEVENT
UID:71018-20250217@ashchurchrural-pc.gov.uk
DTSTAMP:20260423T082804Z
DTSTART;VALUE=DATE:20250217
DTEND;VALUE=DATE:20250218
SUMMARY:Council Meeting- 17 February 2025
DESCRIPTION:Full Council Meeting\nView details: https://ashchurchrural-pc.gov.uk/meetings/council-meeting-17-february-2025/
URL:https://ashchurchrural-pc.gov.uk/meetings/council-meeting-17-february-2025/
END:VEVENT
END:VCALENDAR
