BEGIN:VCALENDAR
VERSION:2.0
PRODID:-//Ashchurch Rural Parish Council//Meeting Calendar//EN
CALSCALE:GREGORIAN
METHOD:PUBLISH
BEGIN:VEVENT
UID:70993-20250101@ashchurchrural-pc.gov.uk
DTSTAMP:20260420T205726Z
DTSTART;VALUE=DATE:20250101
DTEND;VALUE=DATE:20250102
SUMMARY:Meeting Schedule 2025/26
DESCRIPTION:Annual Parish Meeting\nView details: https://ashchurchrural-pc.gov.uk/meetings/meeting-schedule-2025-26/
URL:https://ashchurchrural-pc.gov.uk/meetings/meeting-schedule-2025-26/
END:VEVENT
END:VCALENDAR
