BEGIN:VCALENDAR
VERSION:2.0
PRODID:-//Ashchurch Rural Parish Council//Meeting Calendar//EN
CALSCALE:GREGORIAN
METHOD:PUBLISH
BEGIN:VEVENT
UID:70958-20250120@ashchurchrural-pc.gov.uk
DTSTAMP:20260423T083143Z
DTSTART;VALUE=DATE:20250120
DTEND;VALUE=DATE:20250121
SUMMARY:Council Meeting &#8211\\; 20 January 2025
DESCRIPTION:Full Council Meeting\nView details: https://ashchurchrural-pc.gov.uk/meetings/council-meeting-20-january-2025/
URL:https://ashchurchrural-pc.gov.uk/meetings/council-meeting-20-january-2025/
END:VEVENT
END:VCALENDAR
