BEGIN:VCALENDAR
VERSION:2.0
PRODID:-//Ashchurch Rural Parish Council//Meeting Calendar//EN
CALSCALE:GREGORIAN
METHOD:PUBLISH
BEGIN:VEVENT
UID:70799-20210524@ashchurchrural-pc.gov.uk
DTSTAMP:20260420T223431Z
DTSTART;VALUE=DATE:20210524
DTEND;VALUE=DATE:20210525
SUMMARY:Annual General Meeting &#8211\\; 24 May 2021
DESCRIPTION:Annual Parish Meeting\nView details: https://ashchurchrural-pc.gov.uk/meetings/annual-general-meeting-24-may-2021/
URL:https://ashchurchrural-pc.gov.uk/meetings/annual-general-meeting-24-may-2021/
END:VEVENT
END:VCALENDAR
