BEGIN:VCALENDAR
VERSION:2.0
PRODID:-//Ashchurch Rural Parish Council//Meeting Calendar//EN
CALSCALE:GREGORIAN
METHOD:PUBLISH
BEGIN:VEVENT
UID:70746-20220507@ashchurchrural-pc.gov.uk
DTSTAMP:20260420T221905Z
DTSTART;VALUE=DATE:20220507
DTEND;VALUE=DATE:20220508
SUMMARY:Annual Parish Meeting &#8211\\; 7 May 2022
DESCRIPTION:Annual Parish Meeting\nView details: https://ashchurchrural-pc.gov.uk/meetings/annual-parish-meeting-7-may-2022/
URL:https://ashchurchrural-pc.gov.uk/meetings/annual-parish-meeting-7-may-2022/
END:VEVENT
END:VCALENDAR
