BEGIN:VCALENDAR
VERSION:2.0
PRODID:-//Ashchurch Rural Parish Council//Meeting Calendar//EN
CALSCALE:GREGORIAN
METHOD:PUBLISH
BEGIN:VEVENT
UID:70698-20230522@ashchurchrural-pc.gov.uk
DTSTAMP:20260420T221905Z
DTSTART;VALUE=DATE:20230522
DTEND;VALUE=DATE:20230523
SUMMARY:Annual Meeting &#8211\\; 22 May 2023
DESCRIPTION:Annual Parish Meeting\nView details: https://ashchurchrural-pc.gov.uk/meetings/annual-meeting-22-may-2023/
URL:https://ashchurchrural-pc.gov.uk/meetings/annual-meeting-22-may-2023/
END:VEVENT
END:VCALENDAR
