BEGIN:VCALENDAR
VERSION:2.0
PRODID:-//Ashchurch Rural Parish Council//Meeting Calendar//EN
CALSCALE:GREGORIAN
METHOD:PUBLISH
BEGIN:VEVENT
UID:70689-20241118@ashchurchrural-pc.gov.uk
DTSTAMP:20260421T074416Z
DTSTART;VALUE=DATE:20241118
DTEND;VALUE=DATE:20241119
SUMMARY:Council Meeting &#8211\\; 18 November 2024
DESCRIPTION:Full Council Meeting\nView details: https://ashchurchrural-pc.gov.uk/meetings/council-meeting-18-november-2024/
URL:https://ashchurchrural-pc.gov.uk/meetings/council-meeting-18-november-2024/
END:VEVENT
END:VCALENDAR
