BEGIN:VCALENDAR
VERSION:2.0
PRODID:-//Ashchurch Rural Parish Council//Meeting Calendar//EN
CALSCALE:GREGORIAN
METHOD:PUBLISH
BEGIN:VEVENT
UID:70684-20241021@ashchurchrural-pc.gov.uk
DTSTAMP:20260421T074416Z
DTSTART;VALUE=DATE:20241021
DTEND;VALUE=DATE:20241022
SUMMARY:Council Meeting &#8211\\; 21 October 2024
DESCRIPTION:Full Council Meeting\nView details: https://ashchurchrural-pc.gov.uk/meetings/council-meeting-21-october-2024/
URL:https://ashchurchrural-pc.gov.uk/meetings/council-meeting-21-october-2024/
END:VEVENT
END:VCALENDAR
