BEGIN:VCALENDAR
VERSION:2.0
PRODID:-//Ashchurch Rural Parish Council//Meeting Calendar//EN
CALSCALE:GREGORIAN
METHOD:PUBLISH
BEGIN:VEVENT
UID:70667-20240617@ashchurchrural-pc.gov.uk
DTSTAMP:20260421T060927Z
DTSTART;VALUE=DATE:20240617
DTEND;VALUE=DATE:20240618
SUMMARY:Council Meeting &#8211\\; 17 June 2024
DESCRIPTION:Full Council Meeting\nView details: https://ashchurchrural-pc.gov.uk/meetings/council-meeting-17-june-2024/
URL:https://ashchurchrural-pc.gov.uk/meetings/council-meeting-17-june-2024/
END:VEVENT
END:VCALENDAR
