BEGIN:VCALENDAR
VERSION:2.0
PRODID:-//Ashchurch Rural Parish Council//Meeting Calendar//EN
CALSCALE:GREGORIAN
METHOD:PUBLISH
BEGIN:VEVENT
UID:70663-20240520@ashchurchrural-pc.gov.uk
DTSTAMP:20260420T205838Z
DTSTART;VALUE=DATE:20240520
DTEND;VALUE=DATE:20240521
SUMMARY:Annual Parish Council Meeting &#8211\\; 20 May 2024
DESCRIPTION:Annual Parish Meeting\nView details: https://ashchurchrural-pc.gov.uk/meetings/annual-parish-council-meeting-20-may-2024/
URL:https://ashchurchrural-pc.gov.uk/meetings/annual-parish-council-meeting-20-may-2024/
END:VEVENT
END:VCALENDAR
