BEGIN:VCALENDAR
VERSION:2.0
PRODID:-//Ashchurch Rural Parish Council//Meeting Calendar//EN
CALSCALE:GREGORIAN
METHOD:PUBLISH
BEGIN:VEVENT
UID:70656-20240422@ashchurchrural-pc.gov.uk
DTSTAMP:20260421T043918Z
DTSTART;VALUE=DATE:20240422
DTEND;VALUE=DATE:20240423
SUMMARY:Council Meeting &#8211\\; 22 April 2024
DESCRIPTION:Full Council Meeting\nView details: https://ashchurchrural-pc.gov.uk/meetings/council-meeting-22-april-2024/
URL:https://ashchurchrural-pc.gov.uk/meetings/council-meeting-22-april-2024/
END:VEVENT
END:VCALENDAR
