BEGIN:VCALENDAR
VERSION:2.0
PRODID:-//Ashchurch Rural Parish Council//Meeting Calendar//EN
CALSCALE:GREGORIAN
METHOD:PUBLISH
BEGIN:VEVENT
UID:70648-20240219@ashchurchrural-pc.gov.uk
DTSTAMP:20260421T043959Z
DTSTART;VALUE=DATE:20240219
DTEND;VALUE=DATE:20240220
SUMMARY:Council Meeting &#8211\\; 19 February 2024
DESCRIPTION:Full Council Meeting\nView details: https://ashchurchrural-pc.gov.uk/meetings/council-meeting-19-february-2024/
URL:https://ashchurchrural-pc.gov.uk/meetings/council-meeting-19-february-2024/
END:VEVENT
END:VCALENDAR
