BEGIN:VCALENDAR
VERSION:2.0
PRODID:-//Ashchurch Rural Parish Council//Meeting Calendar//EN
CALSCALE:GREGORIAN
METHOD:PUBLISH
BEGIN:VEVENT
UID:70644-20240122@ashchurchrural-pc.gov.uk
DTSTAMP:20260421T043959Z
DTSTART;VALUE=DATE:20240122
DTEND;VALUE=DATE:20240123
SUMMARY:Council Meeting &#8211\\; 22 January 2024
DESCRIPTION:Full Council Meeting\nView details: https://ashchurchrural-pc.gov.uk/meetings/council-meeting-22-january-2024/
URL:https://ashchurchrural-pc.gov.uk/meetings/council-meeting-22-january-2024/
END:VEVENT
END:VCALENDAR
